BEGIN:VCALENDAR
VERSION:2.0
PRODID:-//South Puget Sound Woodturners - ECPv6.15.20//NONSGML v1.0//EN
CALSCALE:GREGORIAN
METHOD:PUBLISH
X-WR-CALNAME:South Puget Sound Woodturners
X-ORIGINAL-URL:https://spswoodturners.org
X-WR-CALDESC:Events for South Puget Sound Woodturners
REFRESH-INTERVAL;VALUE=DURATION:PT1H
X-Robots-Tag:noindex
X-PUBLISHED-TTL:PT1H
BEGIN:VTIMEZONE
TZID:America/Los_Angeles
BEGIN:DAYLIGHT
TZOFFSETFROM:-0800
TZOFFSETTO:-0700
TZNAME:PDT
DTSTART:20240310T100000
END:DAYLIGHT
BEGIN:STANDARD
TZOFFSETFROM:-0700
TZOFFSETTO:-0800
TZNAME:PST
DTSTART:20241103T090000
END:STANDARD
BEGIN:DAYLIGHT
TZOFFSETFROM:-0800
TZOFFSETTO:-0700
TZNAME:PDT
DTSTART:20250309T100000
END:DAYLIGHT
BEGIN:STANDARD
TZOFFSETFROM:-0700
TZOFFSETTO:-0800
TZNAME:PST
DTSTART:20251102T090000
END:STANDARD
BEGIN:DAYLIGHT
TZOFFSETFROM:-0800
TZOFFSETTO:-0700
TZNAME:PDT
DTSTART:20260308T100000
END:DAYLIGHT
BEGIN:STANDARD
TZOFFSETFROM:-0700
TZOFFSETTO:-0800
TZNAME:PST
DTSTART:20261101T090000
END:STANDARD
END:VTIMEZONE
BEGIN:VEVENT
DTSTART;VALUE=DATE:20250612
DTEND;VALUE=DATE:20250616
DTSTAMP:20260419T171001
CREATED:20250110T201547Z
LAST-MODIFIED:20250110T201735Z
UID:15275-1749686400-1750031999@spswoodturners.org
SUMMARY:AAW International Symposium
DESCRIPTION:The AAW International Woodturning Symposium is the biggest woodturning event in the world and has something for everyone\, no matter your experience level. This year’s symposium will be held in Portland\, Oregon. \n\nInternationally Renowned Demonstrators – Top woodturners from around the world will be demonstrating for woodturners of all skill levels.\nWorld’s Largest Woodturning Tradeshow – All your favorite woodturning and woodworking vendors will be in one place giving you a hands-on look at the latest and greatest products.\nA Sense of Community – Connect with a welcoming community of woodturning hobbyists\, professionals\, artists\, collectors\, and vendors.\nGallery\, Exhibitions and Auctions – The largest and most unique display of awe-inspiring wood art from around the world\nTwo Ways to Attend – Register for full access to all the demonstrations\, gallery\, auctions and tradeshow\, or attend just the tradeshow and gallery for free.
URL:https://spswoodturners.org/event/aaw-international-symposium-2
LOCATION:St. Paul River Center\, 175 Kellogg Blvd\, St. Paul\, 55102\, United States
CATEGORIES:International Event
ATTACH;FMTTYPE=image/jpeg:https://spswoodturners.org/wp-content/uploads/2025/01/AAW-Symposium.webp
END:VEVENT
END:VCALENDAR